BEGIN:VCALENDAR
VERSION:2.0
PRODID:-//Dao Qigong Life - ECPv6.15.20//NONSGML v1.0//EN
CALSCALE:GREGORIAN
METHOD:PUBLISH
X-WR-CALNAME:Dao Qigong Life
X-ORIGINAL-URL:https://daoqigonglife.com
X-WR-CALDESC:Events for Dao Qigong Life
REFRESH-INTERVAL;VALUE=DURATION:PT1H
X-Robots-Tag:noindex
X-PUBLISHED-TTL:PT1H
BEGIN:VTIMEZONE
TZID:America/New_York
BEGIN:DAYLIGHT
TZOFFSETFROM:-0500
TZOFFSETTO:-0400
TZNAME:EDT
DTSTART:20250309T070000
END:DAYLIGHT
BEGIN:STANDARD
TZOFFSETFROM:-0400
TZOFFSETTO:-0500
TZNAME:EST
DTSTART:20251102T060000
END:STANDARD
BEGIN:DAYLIGHT
TZOFFSETFROM:-0500
TZOFFSETTO:-0400
TZNAME:EDT
DTSTART:20260308T070000
END:DAYLIGHT
BEGIN:STANDARD
TZOFFSETFROM:-0400
TZOFFSETTO:-0500
TZNAME:EST
DTSTART:20261101T060000
END:STANDARD
BEGIN:DAYLIGHT
TZOFFSETFROM:-0500
TZOFFSETTO:-0400
TZNAME:EDT
DTSTART:20270314T070000
END:DAYLIGHT
BEGIN:STANDARD
TZOFFSETFROM:-0400
TZOFFSETTO:-0500
TZNAME:EST
DTSTART:20271107T060000
END:STANDARD
END:VTIMEZONE
BEGIN:VEVENT
DTSTART;TZID=America/New_York:20260623T190000
DTEND;TZID=America/New_York:20260623T200000
DTSTAMP:20260420T044908
CREATED:20260408T141235Z
LAST-MODIFIED:20260409T021659Z
UID:5208-1782241200-1782244800@daoqigonglife.com
SUMMARY:QIGONG SELF CARE (S#03) 1 of 5 “Year of the FIRE HORSE” Optimization Pt 1 (5\, 10 or 15 Sess.) CLICK LINK – Starts TODAY!
DESCRIPTION:Qigong Self-Care Sessions starts today\, June 23\, 2026. \nYear of the FIRE HORSE: Optimize our capacity:to safely navigate a highly charged environment of the Year of the Fire Horse. With routines to counter stress and burnout\, protect the heart/Shen\, build energy and calm the nervous system.. \nRegister Here: \n5 Sessions:\n10 Sessions:\n15 Sessions:
URL:https://daoqigonglife.com/event/qigong-self-care-s03-1-of-5-prep-year-of-the-fire-horse-5-10-or-15-sess-click-link-starts-today/
END:VEVENT
END:VCALENDAR